BEGIN:VCALENDAR
VERSION:2.0
PRODID:-//Hajdúsági Múzeum - ECPv4.6.10.1//NONSGML v1.0//EN
CALSCALE:GREGORIAN
METHOD:PUBLISH
X-WR-CALNAME:Hajdúsági Múzeum
X-ORIGINAL-URL:https://hajdusagimuzeum.hu
X-WR-CALDESC:Events for Hajdúsági Múzeum
BEGIN:VEVENT
DTSTART;TZID=Europe/Budapest:20190130T080000
DTEND;TZID=Europe/Budapest:20190130T090000
DTSTAMP:20260419T185630
CREATED:20190806T090949Z
LAST-MODIFIED:20190806T090949Z
UID:5271-1548835200-1548838800@hajdusagimuzeum.hu
SUMMARY:Karöltve
DESCRIPTION:Téma/tematika: Fészkelődjünk! Család születik\, alapja a “fészekrakás” \n  \nSzülőakadémia (múzeumpedagógiai csoportfoglalkozás a Hajdúsági Múzeumban a következő témákban: család\, nagycsalád\, egyke\, gyermekszületés\, keresztelő\, egyköri böszörményi munkahelyek\, böszörményi iskolák\, áldott állapot) \n
URL:https://hajdusagimuzeum.hu/event/karoltve-16/
END:VEVENT
END:VCALENDAR